BEGIN:VCALENDAR
VERSION:2.0
PRODID:-//eventon.com NONSGML v1.0//EN
CALSCALE:GREGORIAN
METHOD:PUBLISH
BEGIN:VEVENT
UID:69e4f2365a3ce
DTSTAMP:20260419T151814Z
DTSTART:20171019T193000Z
DTEND:20171019T220000Z
LOCATION:Craignish Village Hall Ardfern
SUMMARY:Growth
DESCRIPTION:Paines Plough theatre presents GROWTH a play by Luke Norris.  
 “Achingly funny and tender&#8230; Of the hundreds of shows at the Fringe\
 ,  few feel as necessary as this.” ★★★★★ Financial Times “Gen
 uinely hilarious from start to finish&#8230; consistently witty\,  packed w
 ith vivid characters and hook-filled dialogue.” ★★★★ The Stage Ti
 ckets[..]\nhttps://www.craignish.org.uk/cvh/events/hall-1-growth/
URL:https://www.craignish.org.uk/cvh/events/hall-1-growth/
END:VEVENT
END:VCALENDAR